BEGIN:VCALENDAR
VERSION:2.0
PRODID:-//eventon.com NONSGML v1.0//EN
CALSCALE:GREGORIAN
METHOD:PUBLISH
BEGIN:VEVENT
UID:69e9dd48418ba
DTSTAMP:20260423T085016Z
DTSTART:20250224
DTEND:20250225
LOCATION:
SUMMARY:Start of Term 4
DESCRIPTION:Start of Term 4\nhttps://www.knoleacademy.org/events/start-of-t
 erm-4/
URL:https://www.knoleacademy.org/events/start-of-term-4/
END:VEVENT
END:VCALENDAR