BEGIN:VCALENDAR
VERSION:2.0
PRODID:-//eventon.com NONSGML v1.0//EN
CALSCALE:GREGORIAN
METHOD:PUBLISH
BEGIN:VEVENT
UID:69e8a347024c3
DTSTAMP:20260422T103031Z
DTSTART:20250522T140000Z
DTEND:20250522T183000Z
LOCATION:
SUMMARY:Year 7 Parent Consultations
DESCRIPTION:Year 7 Parent Consultations\nhttps://www.knoleacademy.org/event
 s/year-7-parent-consultations/
URL:https://www.knoleacademy.org/events/year-7-parent-consultations/
END:VEVENT
END:VCALENDAR