BEGIN:VCALENDAR
VERSION:2.0
PRODID:-//eventon.com NONSGML v1.0//EN
CALSCALE:GREGORIAN
METHOD:PUBLISH
BEGIN:VEVENT
UID:69e9ed3a18331
DTSTAMP:20260423T095818Z
DTSTART:20261218T123900Z
DTEND:20261218T123900Z
LOCATION:
SUMMARY:End of Term 2
DESCRIPTION:End of Term 2\nhttps://www.knoleacademy.org/events/end-of-term-
 2-2/
URL:https://www.knoleacademy.org/events/end-of-term-2-2/
END:VEVENT
END:VCALENDAR