BEGIN:VCALENDAR
VERSION:2.0
PRODID:-//eventon.com NONSGML v1.0//EN
CALSCALE:GREGORIAN
METHOD:PUBLISH
BEGIN:VEVENT
UID:69e9eaeb9475f
DTSTAMP:20260423T094827Z
DTSTART:20260505T090000Z
DTEND:20260505T153000Z
LOCATION:
SUMMARY:GCSE Graphics Exam
DESCRIPTION:GCSE Graphics Exam\nhttps://www.knoleacademy.org/events/gcse-gr
 aphics-exam-2/
URL:https://www.knoleacademy.org/events/gcse-graphics-exam-2/
END:VEVENT
END:VCALENDAR